Workbook

Sheet Seg Pag
A5: # | B5: Nombre | C5: CEDULA | D5: # CONTRATO | E5: PROCESO | F5: Fecha de contrato | G5: FECHA DE INICIO | H5: FECHA FIN | I5: duración en días | J5: VALOR CONTRATO | K5: # CUOTAS | L5: ENERO | M5: FEBRERO | N5: MARZO | O5: Columna2 | P5: SALDO
A6: 42 | B6: MARBEL CONTRERAS VARGAS | C6: 22662391 | D6: 1001501-042-2026 | F6: 45706 | G6: 45706 | H6: 45918 | I6: 210 | J6: 14700000 | K6: 8 | L6: - | O6: 1050000 | P6: =J6-L6-M6-N6-O6 -> #VALUE!
A7: 43 | B7: PABLO ANTONIO CRUZ PALECHOR | C7: 76345164 | D7: 1001501-043-2026 | F7: 45706 | G7: 45706 | H7: 45918 | I7: 210 | J7: 14700000 | K7: 8 | L7: - | O7: 1050000 | P7: =J7-L7-M7-N7-O7 -> #VALUE!
A8: 44 | B8: LISA MARIA TELLO HENAO | C8: 1118303696 | D8: 1001501-044-2026 | F8: 45706 | G8: 45706 | H8: 45918 | I8: 210 | J8: 14700000 | K8: 8 | L8: - | O8: 1050000 | P8: =J8-L8-M8-N8-O8 -> #VALUE!
A9: 45 | B9: LUZ KARIME CORTES SALGADO | C9: 1115085069 | D9: 1001501-045-2026 | F9: 45706 | G9: 45706 | H9: 45918 | I9: 210 | J9: 14700000 | K9: 8 | L9: - | O9: 1050000 | P9: =J9-L9-M9-N9-O9 -> #VALUE!
A10: 46 | B10: JHON ALEXANDER OROZCO PEREZ | C10: 1118301409 | D10: 1001501-046-2026 | F10: 45706 | G10: 45706 | H10: 45918 | I10: 210 | J10: 14700000 | K10: 8 | L10: - | O10: 1050000 | P10: =J10-L10-M10-N10-O10 -> #VALUE!
A11: 47 | B11: HELEN BANESA PEREZ | C11: 1118259252 | D11: 1001501-047-2026 | F11: 45706 | G11: 45706 | H11: 45918 | I11: 210 | J11: 14700000 | K11: 8 | O11: 1050000 | P11: =J11-L11-M11-N11-O11 -> 13650000
A12: 48 | B12: LUZ KARIME CARDONA | C12: 1118285418 | D12: 1001501-048-2026 | F12: 45706 | G12: 45706 | H12: 45918 | I12: 210 | J12: 14700000 | K12: 8 | O12: 1050000 | P12: =J12-L12-M12-N12-O12 -> 13650000
A13: 49 | B13: JONATHAN DIAZ | C13: 1118282515 | D13: 1001501-049-2026 | F13: 45706 | G13: 45706 | H13: 45918 | I13: 210 | J13: 14700000 | K13: 8 | O13: 1050000 | P13: =J13-L13-M13-N13-O13 -> 13650000
A14: 50 | B14: YAMILED SEPULVEDA | C14: 31475774 | D14: 1001501-050-2026 | F14: 45706 | G14: 45706 | H14: 45918 | I14: 210 | J14: 14700000 | K14: 8 | O14: 1050000 | P14: =J14-L14-M14-N14-O14 -> 13650000
A15: 51 | B15: ELSA REINA | C15: 31469557 | D15: 1001501-051-2026 | F15: 45706 | G15: 45706 | H15: 45918 | I15: 210 | J15: 14700000 | K15: 8 | O15: 1050000 | P15: =J15-L15-M15-N15-O15 -> 13650000
A16: 52 | B16: MANUEL MARQUEZ | C16: 16449942 | D16: 1001501-052-2026 | F16: 45706 | G16: 45708 | H16: 45918 | I16: 210 | J16: 14700000 | K16: 8 | O16: 1050000 | P16: =J16-L16-M16-N16-O16 -> 13650000
A17: 53 | B17: LAURO DRADA | C17: 16448311 | D17: 1001501-053-2026 | F17: 45706 | G17: 45708 | H17: 45918 | I17: 210 | J17: 14700000 | K17: 8 | O17: 1050000 | P17: =J17-L17-M17-N17-O17 -> 13650000
A18: 54 | B18: CRISTIAN RAMIREZ | C18: 1118297137 | D18: 1001501-054-2026 | F18: 45707 | G18: 45707 | H18: 45918 | I18: 210 | J18: 14700000 | K18: 8 | O18: 1050000 | P18: =J18-L18-M18-N18-O18 -> 13650000
A19: 55 | B19: VALERIA GOMEZ | C19: 1118307353 | D19: 1001501-055-2026 | F19: 45707 | G19: 45707 | H19: 45918 | I19: 210 | J19: 14700000 | K19: 8 | O19: 1050000 | P19: =J19-L19-M19-N19-O19 -> 13650000
A20: 56 | B20: SANDRA LILIANA ALVAREZ | C20: 55060615 | D20: 1001501-056-2026 | F20: 45707 | G20: 45707 | H20: 45918 | I20: 210 | J20: 14700000 | K20: 8 | O20: 1050000 | P20: =J20-L20-M20-N20-O20 -> 13650000
A21: 57 | B21: WILLIAM SALAZAR | C21: 16464670 | D21: 1001501-057-2026 | F21: 45707 | G21: 45707 | H21: 45918 | I21: 210 | J21: 14700000 | K21: 8 | O21: 1050000 | P21: =J21-L21-M21-N21-O21 -> 13650000
A22: 58 | B22: ANGIE MERA BELTRAN | C22: 1118310324 | D22: 1001501-058-2026 | F22: 45707 | G22: 45707 | H22: 45918 | I22: 210 | J22: 14700000 | K22: 8 | O22: 1050000 | P22: =J22-L22-M22-N22-O22 -> 13650000
... A46: 87 | B46: OSCAR BARRANTES | C46: 80210741 | D46: 1001501-087-2026 | F46: 45709 | G46: 45709 | H46: 45887 | I46: 180 | J46: 23562000 | K46: 7 | O46: 1963500 | P46: =J46-L46-M46-N46-O46 -> 21598500
A47: 88 | B47: AURA CRISTINA LLANOS RAMIREZ | C47: 1151966713 | D47: 1001501-088-2026 | F47: 45709 | G47: 45709 | H47: 45918 | I47: 207 | J47: 14700000 | K47: 8 | O47: 1050000 | P47: 14700000
A48: 89 | B48: LUISA MARIA SANCHEZ TRUEQUE | C48: 1118302426 | D48: 1001501-089-2026 | F48: 45709 | G48: 45709 | H48: 45918 | I48: 207 | J48: 14700000 | K48: 8 | O48: 1050000 | P48: 14700000

Sheet Aut. Enero
B4: AUTORIZACIÓN PARA PAGO CUOTA ENERO 31 DEL 2025
B5: Nombre | C5: CEDULA | D5: # CONTRATO | E5: AREA | F5: Fecha de contrato | G5: FECHA DE INICIO | H5: FECHA FIN | I5: duración en días | J5: VALOR CONTRATO | K5: # CUOTAS | L5: ENERO | M5: SALDO
A6: 1 | B6: Cindy Yohana Delgado Gúzman | C6: 1061721506 | D6: 100,15,01-001-2026 | E6: JURIDICA | F6: 45675 | G6: 45675 | H6: 46021 | I6: 342 | J6: 59834500 | K6: 12 | L6: 2634500 | M6: =J6-L6 -> 57200000
A7: 2 | B7: Camila Eraso Rosero | C7: 1118286512 | D7: 1001501-002-2026 | E7: TH | F7: 45677 | G7: 45677 | H7: 46006 | I7: 325 | J7: 43197000 | K7: 12 | L7: 1963500 | M7: =J7-L7 -> 41233500
A8: 3 | B8: Yudy Fernanda Pungo | C8: 1118285993 | D8: 100,15,01-003-2026 | E8: FINANCIERA | F8: 45677 | G8: 45677 | H8: 46006 | I8: 325 | J8: 43197000 | K8: 12 | L8: 1963500 | M8: =J8-L8 -> 41233500
A9: 4 | B9: Carlos Edwin Pedrahita Garcia | C9: 16457640 | D9: 1001501-004-2026 | E9: PLANEACIÓN | F9: 45680 | G9: 45680 | H9: 46021 | I9: 337 | J9: 45160500 | K9: 12 | L9: 1963500 | M9: =J9-L9 -> 43197000
A10: 5 | B10: Diana Carolina Marquez Molina | C10: 31487789 | D10: 100,15,01-005-2026 | E10: AGENCIA | F10: 45682 | G10: 45322 | H10: 46021 | I10: 335 | J10: 59834500 | K10: 12 | L10: 2634500 | M10: =J10-L10 -> 57200000
J11: =SUM(J6:J10) -> 251223500 | L11: =SUM(L6:L10) -> 11159500 | M11: =SUM(M6:M10) -> 240064000

Sheet Aut. Feb 7 SP
A4: AUTORIZACIÓN PARA PAGO CUOTA FEBRERO 07 2025
B5: Nombre | C5: CEDULA | D5: # CONTRATO | E5: Fecha de contrato | F5: FECHA DE INICIO | G5: FECHA FIN | H5: duración en días | I5: VALOR CONTRATO | J5: # CUOTAS | K5: ENERO | L5: SALDO
A6: 1 | B6: MARÍA ELVIA BRION MOLINA | C6: 31476734 | D6: 1001501-006-2026 | E6: 45686 | F6: 45686 | G6: 46021 | H6: 301 | I6: 20700000 | J6: 12 | K6: 900000 | L6: =I6-K6 -> 19800000
A7: 2 | B7: OLGA PATRICIA CANO RENDÓN | C7: 31475449 | D7: 1001501-007-2026 | E7: 45686 | F7: 45686 | G7: 46006 | H7: 316 | I7: 43197000 | J7: 12 | K7: 1963500 | L7: =I7-K7 -> 41233500
A8: 3 | B8: EDDIE ERIC POSADA HERRERA | C8: 1118289808 | D8: 1001501-008-2026 | E8: 45686 | F8: 45689 | G8: 46011 | H8: 320 | I8: 57233000 | J8: 12 | K8: 2616500 | L8: =I8-K8 -> 54616500
A9: 4 | B9: WILLIAM ANDRÉS BRAVO GALINDO | C9: 1005785716 | D9: 1001501-009-2026 | E9: 45687 | F9: 45687 | G9: 46006 | H9: 315 | I9: 26620000 | J9: 12 | K9: 1210000 | L9: =I9-K9 -> 25410000
A10: 5 | B10: LAURA VANESSA FRANCO MORALES | C10: 1118298717 | D10: 1001501-010-2026 | E10: 45687 | F10: 45687 | G10: 46006 | H10: 315 | I10: 26620000 | J10: 12 | K10: 1210000 | L10: =I10-K10 -> 25410000
A11: 6 | B11: FRANK ROBERT MURIEL HOYOS | C11: 1118287494 | D11: 1001501-011-2026 | E11: 45687 | F11: 45687 | G11: 46006 | H11: 315 | I11: 26620000 | J11: 12 | K11: 1210000 | L11: =I11-K11 -> 25410000
A12: 7 | B12: PAOLA ANDREA SANTAMARÍA FLOREZ | C12: 31485502 | D12: 1001501-012-2026 | E12: 45687 | F12: 45687 | G12: 46006 | H12: 315 | I12: 23100000 | J12: 12 | K12: 1050000 | L12: =I12-K12 -> 22050000
A13: 8 | B13: MILAGROS VALENTINA PAYAN RIVERA | C13: 1109545940 | D13: 1001501-013-2026 | E13: 45688 | F13: 45688 | G13: 45853 | H13: 165 | I13: 10800000 | J13: 7 | K13: 900000 | L13: =I13-K13 -> 9900000
A14: 9 | B14: OMAR RESTREPO ZÚÑIGA | C14: 16454607 | D14: 1001501-014-2026 | E14: 45688 | F14: 45688 | G14: 46006 | H14: 315 | I14: 19800000 | J14: 12 | K14: 900000 | L14: =I14-K14 -> 18900000
A15: 10 | B15: JOSÉ ATANEL QUICENO TORRES | C15: 94193787 | D15: 1001501-016-2026 | E15: 45688 | F15: 45688 | G15: 46006 | H15: 315 | I15: 19800000 | J15: 12 | K15: 900000 | L15: =I15-K15 -> 18900000
A16: 11 | B16: NARLLY GÓMEZ BRAVO | C16: 29120768 | D16: 1001501-017-2026 | E16: 45688 | F16: 45688 | G16: 46006 | H16: 315 | I16: 19800000 | J16: 12 | K16: 900000 | L16: =I16-K16 -> 18900000
A17: 12 | B17: LUZ AIDE MUÑOZ ORTEGA | C17: 27149631 | D17: 1001501-018-2026 | E17: 45688 | F17: 45688 | G17: 46006 | H17: 315 | I17: 19800000 | J17: 12 | K17: 900000 | L17: =I17-K17 -> 18900000
... A30: 25 | B30: JHON SEBASTIÁN PAYAN ORTIZ | C30: 1193142882 | D30: 1001501-034-2026 | E30: 45689 | F30: 45689 | G30: 46006 | H30: 315 | I30: 19800000 | J30: 12 | K30: 900000 | L30: =I30-K30 -> 18900000
I31: =SUM(I6:I30) -> 788663000 | K31: =SUM(K6:K30) -> 36231500 | L31: =SUM(L6:L30) -> 752431500
B33: APROBO Y AUTORIZO: | G33: REALIZO:
B37: JAIME SANCHEZ LENIS | G37: CAMILA ERASO ROSERO
B38: DIRECTOR | G38: GESTIÓN DE TALENTO HUMANO-SST-AMBIENTAL
B41: FECHA DE REALIZACIÓN: | C41: 45695

Sheet Aut. Feb 7 cm
A4: AUTORIZACIÓN PARA PAGO CUOTA FEBRERO 07 2025
B5: Nombre | C5: CEDULA | D5: # CONTRATO | E5: Fecha de contrato | F5: FECHA DE INICIO | G5: FECHA FIN | H5: duración en días | I5: VALOR CONTRATO | J5: # CUOTAS | K5: ENERO | L5: SALDO
A6: 1 | B6: MARÍA ELVIA BRION MOLINA | C6: 31476734 | D6: 1001501-006-2026 | E6: 45686 | F6: 45686 | G6: 46021 | H6: 301 | I6: 20700000 | J6: 12 | K6: 900000 | L6: =I6-K6 -> 19800000
A7: 2 | B7: OLGA PATRICIA CANO RENDÓN | C7: 31475449 | D7: 1001501-007-2026 | E7: 45686 | F7: 45686 | G7: 46006 | H7: 316 | I7: 43197000 | J7: 12 | K7: 1963500 | L7: =I7-K7 -> 41233500
A8: 3 | B8: EDDIE ERIC POSADA HERRERA | C8: 1118289808 | D8: 1001501-008-2026 | E8: 45686 | F8: 45689 | G8: 46011 | H8: 320 | I8: 57233000 | J8: 12 | K8: 2616500 | L8: =I8-K8 -> 54616500
A9: 4 | B9: WILLIAM ANDRÉS BRAVO GALINDO | C9: 1005785716 | D9: 1001501-009-2026 | E9: 45687 | F9: 45687 | G9: 46006 | H9: 315 | I9: 26620000 | J9: 12 | K9: 1210000 | L9: =I9-K9 -> 25410000
A10: 5 | B10: LAURA VANESSA FRANCO MORALES | C10: 1118298717 | D10: 1001501-010-2026 | E10: 45687 | F10: 45687 | G10: 46006 | H10: 315 | I10: 26620000 | J10: 12 | K10: 1210000 | L10: =I10-K10 -> 25410000
A11: 6 | B11: FRANK ROBERT MURIEL HOYOS | C11: 1118287494 | D11: 1001501-011-2026 | E11: 45687 | F11: 45687 | G11: 46006 | H11: 315 | I11: 26620000 | J11: 12 | K11: 1210000 | L11: =I11-K11 -> 25410000
A12: 7 | B12: PAOLA ANDREA SANTAMARÍA FLOREZ | C12: 31485502 | D12: 1001501-012-2026 | E12: 45687 | F12: 45687 | G12: 46006 | H12: 315 | I12: 23100000 | J12: 12 | K12: 1050000 | L12: =I12-K12 -> 22050000
A13: 8 | B13: MILAGROS VALENTINA PAYAN RIVERA | C13: 1109545940 | D13: 1001501-013-2026 | E13: 45688 | F13: 45688 | G13: 45853 | H13: 165 | I13: 10800000 | J13: 7 | K13: 900000 | L13: =I13-K13 -> 9900000
A14: 9 | B14: OMAR RESTREPO ZÚÑIGA | C14: 16454607 | D14: 1001501-014-2026 | E14: 45688 | F14: 45688 | G14: 46006 | H14: 315 | I14: 19800000 | J14: 12 | K14: 900000 | L14: =I14-K14 -> 18900000
A15: 10 | B15: JHON EDISON CÓRDOBA ORDOÑEZ | C15: 1118301461 | D15: 1001501-015-2026 | E15: 45688 | F15: 45688 | G15: 46006 | H15: 315 | I15: 19800000 | J15: 12 | K15: 900000 | L15: =I15-K15 -> 18900000
A16: 11 | B16: JOSÉ ATANEL QUICENO TORRES | C16: 94193787 | D16: 1001501-016-2026 | E16: 45688 | F16: 45688 | G16: 46006 | H16: 315 | I16: 19800000 | J16: 12 | K16: 900000 | L16: =I16-K16 -> 18900000
A17: 12 | B17: NARLLY GÓMEZ BRAVO | C17: 29120768 | D17: 1001501-017-2026 | E17: 45688 | F17: 45688 | G17: 46006 | H17: 315 | I17: 19800000 | J17: 12 | K17: 900000 | L17: =I17-K17 -> 18900000
... A31: 26 | B31: JHON SEBASTIÁN PAYAN ORTIZ | C31: 1193142882 | D31: 1001501-034-2026 | E31: 45689 | F31: 45689 | G31: 46006 | H31: 315 | I31: 19800000 | J31: 12 | K31: 900000 | L31: =I31-K31 -> 18900000
I32: =SUM(I6:I31) -> 808463000 | K32: =SUM(K6:K31) -> 37131500 | L32: =SUM(L6:L31) -> 771331500
B34: APROBO Y AUTORIZO: | G34: REALIZO:
B38: JAIME SANCHEZ LENIS | G38: CAMILA ERASO ROSERO
B39: DIRECTOR | G39: GESTIÓN DE TALENTO HUMANO-SST-AMBIENTAL
B42: FECHA DE REALIZACIÓN: | C42: 45695

Sheet Aut. 28 Feb
B1: AUTORIZACIÓN PARA PAGO CUOTA ENERO 31 DEL 2025
B2: Nombre | C2: CEDULA | D2: # CONTRATO | E2: Fecha de contrato | F2: FECHA DE INICIO | G2: FECHA FIN | H2: duración en días | I2: VALOR CONTRATO | J2: # CUOTAS | K2: ENERO | L2: 45695 | M2: 45716 | N2: SALDO
A3: 1 | B3: CINDY YOHANA DELGADO GUZMÁN | C3: 1061721506 | D3: 1001501-001-2026 | E3: 45675 | F3: 45675 | G3: 46021 | H3: 342 | I3: 59834500 | J3: 12 | K3: 2634500 | M3: 5200000 | N3: =I3-K3-L3-M3 -> 52000000
A4: 2 | B4: CAMILA ERASO ROSERO | C4: 1118286512 | D4: 1001501-002-2026 | E4: 45677 | F4: 45677 | G4: 46006 | H4: 325 | I4: 43197000 | J4: 12 | K4: 1963500 | M4: 3927000 | N4: =I4-K4-L4-M4 -> 37306500
A5: 3 | B5: YUDY FERNANDA PUNGO | C5: 1118285993 | D5: 1001501-003-2026 | E5: 45677 | F5: 45677 | G5: 46006 | H5: 325 | I5: 43197000 | J5: 12 | K5: 1963500 | M5: 3927000 | N5: =I5-K5-L5-M5 -> 37306500
A6: 4 | B6: CARLOS EDWIN PIEDRAHITA GARCÍA | C6: 16457640 | D6: 1001501-004-2026 | E6: 45680 | F6: 45680 | G6: 46021 | H6: 337 | I6: 45160500 | J6: 12 | K6: 1963500 | M6: 3927000 | N6: =I6-K6-L6-M6 -> 39270000 | O6: PTE SS
A7: 5 | B7: DIANA CAROLINA MÁRQUEZ MOLINA | C7: 31487789 | D7: 1001501-005-2026 | E7: 45682 | F7: 45316 | G7: 46021 | H7: 335 | I7: 59834500 | J7: 12 | K7: 2634500 | M7: 5200000 | N7: =I7-K7-L7-M7 -> 52000000
A8: 6 | B8: MARÍA ELVIA BRION MOLINA | C8: 31476734 | D8: 1001501-006-2026 | E8: 45686 | F8: 45686 | G8: 46021 | H8: 301 | I8: 20700000 | J8: 12 | L8: 900000 | M8: 18000000 | N8: =I8-K8-L8-M8 -> 1800000
A9: 7 | B9: OLGA PATRICIA CANO RENDÓN | C9: 31475449 | D9: 1001501-007-2026 | E9: 45686 | F9: 45686 | G9: 46006 | H9: 316 | I9: 43197000 | J9: 12 | L9: 1963500 | M9: 3927000 | N9: =I9-K9-L9-M9 -> 37306500
A10: 8 | B10: EDDIE ERIC POSADA HERRERA | C10: 1118289808 | D10: 1001501-008-2026 | E10: 45686 | F10: 45689 | G10: 20/15/2025 | H10: 320 | I10: 57233000 | J10: 12 | L10: 2616500 | M10: 5200000 | N10: =I10-K10-L10-M10 -> 49416500
A11: 9 | B11: WILLIAM ANDRÉS BRAVO GALINDO | C11: 1005785716 | D11: 1001501-009-2026 | E11: 45687 | F11: 45687 | G11: 46006 | H11: 315 | I11: 26620000 | J11: 12 | L11: 1210000 | M11: 2420000 | N11: =I11-K11-L11-M11 -> 22990000
A12: 10 | B12: LAURA VANESSA FRANCO MORALES | C12: 1118298717 | D12: 1001501-010-2026 | E12: 45687 | F12: 45687 | G12: 46006 | H12: 315 | I12: 26620000 | J12: 12 | L12: 1210000 | M12: 2420000 | N12: =I12-K12-L12-M12 -> 22990000
A13: 11 | B13: FRANK ROBERT MURIEL HOYOS | C13: 1118287494 | D13: 1001501-011-2026 | E13: 45687 | F13: 45687 | G13: 46006 | H13: 315 | I13: 26620000 | J13: 12 | L13: 1210000 | M13: 2420000 | N13: =I13-K13-L13-M13 -> 22990000
A14: 12 | B14: PAOLA ANDREA SANTAMARÍA FLÓREZ | C14: 31485502 | D14: 1001501-012-2026 | E14: 45687 | F14: 45687 | G14: 46006 | H14: 315 | I14: 23100000 | J14: 12 | L14: 1050000 | M14: 2100000 | N14: =I14-K14-L14-M14 -> 19950000
A15: 13 | B15: MILAGROS VALENTINA PAYAN RIVERA | C15: 1109545940 | D15: 1001501-013-2026 | E15: 45688 | F15: 45688 | G15: 45853 | H15: 165 | I15: 10800000 | J15: 7 | L15: 900000 | M15: 1800000 | N15: =I15-K15-L15-M15 -> 8100000
A16: 14 | B16: OMAR RESTREPO ZÚÑIGA | C16: 16454607 | D16: 1001501-014-2026 | E16: 45688 | F16: 45688 | G16: 46006 | H16: 315 | I16: 19800000 | J16: 12 | L16: 900000 | M16: 1800000 | N16: =I16-K16-L16-M16 -> 17100000 | O16: PTE SS
A17: 15 | B17: JHON EDISON CÓRDOBA ORDOÑEZ | C17: 1118301461 | D17: 1001501-015-2026 | E17: 45688 | F17: 45688 | G17: 46006 | H17: 315 | I17: 19800000 | J17: 12 | L17: 900000 | M17: 1800000 | N17: =I17-K17-L17-M17 -> 17100000
A18: 16 | B18: JOSÉ ATANEL QUICENO TORRES | C18: 94193787 | D18: 1001501-016-2026 | E18: 45688 | F18: 45688 | G18: 46006 | H18: 315 | I18: 19800000 | J18: 12 | L18: 900000 | M18: 1800000 | N18: =I18-K18-L18-M18 -> 17100000
A19: 17 | B19: NARLLY GÓMEZ BRAVO | C19: 29120768 | D19: 1001501-017-2026 | E19: 45688 | F19: 45688 | G19: 46006 | H19: 315 | I19: 19800000 | J19: 12 | L19: 900000 | M19: 1800000 | N19: =I19-K19-L19-M19 -> 17100000
A20: 18 | B20: LUZ AIDE MUÑOZ ORTEGA | C20: 27149631 | D20: 1001501-018-2026 | E20: 45688 | F20: 45688 | G20: 46006 | H20: 315 | I20: 19800000 | J20: 12 | L20: 900000 | M20: 1800000 | N20: =I20-K20-L20-M20 -> 17100000
A21: 19 | B21: LENIN GILBERTO RUIZ AYALA | C21: 6549670 | D21: 1001501-019-2026 | E21: 45688 | F21: 45688 | G21: 46006 | H21: 315 | I21: 43197000 | J21: 12 | L21: 1963500 | M21: 3927000 | N21: =I21-K21-L21-M21 -> 37306500
A22: 21 | B22: PABLO STEVEN PABÓN POLANCO | C22: 1110285162 | D22: 1001501-021-2026 | E22: 45689 | F22: 45689 | G22: 46021 | H22: 329 | I22: 23100000 | J22: 12 | K22: - | M22: 2100000 | N22: =I22-K22-L22-M22 -> #VALUE!
A23: 22 | B23: MILTON ARIAS VARGAS | C23: 16460613 | D23: 1001501-022-2026 | E23: 45689 | F23: 45689 | G23: 46021 | H23: 329 | I23: 23100000 | J23: 12 | K23: - | M23: 2100000 | N23: =I23-K23-L23-M23 -> #VALUE!
A24: 23 | B24: KELLY JOHANNA RIVERA DÍAZ | C24: 1118303170 | D24: 1001501-023-2026 | E24: 45689 | F24: 45689 | G24: 46006 | H24: 315 | I24: 43197000 | J24: 12 | L24: 1963500 | M24: 3927000 | N24: =I24-K24-L24-M24 -> 37306500
A25: 24 | B25: WILLAR GONZALES TORO | C25: 1118305806 | D25: 1001501-024-2026 | E25: 45689 | F25: 45689 | G25: 46006 | H25: 315 | I25: 43197000 | J25: 12 | L25: 1963500 | M25: 3927000 | N25: =I25-K25-L25-M25 -> 37306500
A26: 25 | B26: DIEGO JAVIER ALZATE CUERO | C26: 16455217 | D26: 1001501-025-2026 | E26: 45689 | F26: 45689 | G26: 46006 | H26: 315 | I26: 43197000 | J26: 12 | L26: 1963500 | M26: 3927000 | N26: =I26-K26-L26-M26 -> 37306500
A27: 26 | B27: JULIANA MOSQUERA VARGAS | C27: 1118295433 | D27: 1001501-026-2026 | E27: 45689 | F27: 45689 | G27: 46006 | H27: 315 | I27: 43197000 | J27: 12 | L27: 1963500 | M27: 3927000 | N27: =I27-K27-L27-M27 -> 37306500
A28: 27 | B28: LEYDI TATIANA ORTIZ RENGIFO | C28: 1118309496 | D28: 1001501-027-2026 | E28: 45689 | F28: 45689 | G28: 46006 | H28: 315 | I28: 43197000 | J28: 12 | L28: 1963500 | M28: 3927000 | N28: =I28-K28-L28-M28 -> 37306500
A29: 28 | B29: ANA SOFÍA TELLO HERRERA | C29: 31485180 | D29: 1001501-028-2026 | E29: 45689 | F29: 45689 | G29: 46006 | H29: 315 | I29: 43197000 | J29: 12 | L29: 1963500 | M29: 3927000 | N29: =I29-K29-L29-M29 -> 37306500
A30: 29 | B30: ANGÉLICA MARÍA RIVERA VALENCIA | C30: 31486456 | D30: 1001501-029-2026 | E30: 45689 | F30: 45689 | G30: 46006 | H30: 315 | I30: 43197000 | J30: 12 | L30: 1963500 | M30: 3927000 | N30: =I30-K30-L30-M30 -> 37306500
A31: 30 | B31: NATHALIA JIMÉNEZ CARVAJAL | C31: 1144201554 | D31: 1001501-030-2026 | E31: 45689 | F31: 45689 | G31: 46006 | H31: 315 | I31: 43197000 | J31: 12 | L31: 1963500 | M31: 3927000 | N31: =I31-K31-L31-M31 -> 37306500
A32: 31 | B32: CLAUDIA FERNANDA GARCÉS PULIDO | C32: 66868669 | D32: 1001501-031-2026 | E32: 45689 | F32: 45689 | G32: 46006 | H32: 315 | I32: 23100000 | J32: 12 | L32: 1050000 | M32: 2100000 | N32: =I32-K32-L32-M32 -> 19950000
A33: 32 | B33: GLADIS JOHANA OLAYA LIZARRALDE | C33: 31485452 | D33: 1001501-032-2026 | E33: 45689 | F33: 45689 | G33: 46006 | H33: 315 | I33: 23100000 | J33: 12 | L33: 1050000 | M33: 2100000 | N33: =I33-K33-L33-M33 -> 19950000
A34: 33 | B34: NORA LILIANA CORRALES GONZÁLEZ | C34: 31476109 | D34: 1001501-033-2026 | E34: 45689 | F34: 45689 | G34: 46006 | H34: 315 | I34: 19800000 | J34: 12 | L34: 900000 | M34: 1800000 | N34: =I34-K34-L34-M34 -> 17100000
A35: 34 | B35: JHON SEBASTIÁN PAYAN ORTIZ | C35: 1193142882 | D35: 1001501-034-2026 | E35: 45689 | F35: 45689 | G35: 46006 | H35: 315 | I35: 19800000 | J35: 12 | L35: 900000 | M35: 1800000 | N35: =I35-K35-L35-M35 -> 17100000
A36: 35 | B36: ELCY ESTEFANNY PATIÑO SANDOVAL | C36: 1118304351 | D36: 1001501-035-2026 | E36: 45689 | F36: 45689 | G36: 46006 | H36: 315 | I36: 12600000 | J36: 6 | K36: - | M36: 2100000 | N36: =I36-K36-L36-M36 -> #VALUE! | O36: PTE SS
A37: 36 | B37: FRANCISCO RAFAEL HERAZO SANTIZ | C37: 8661306 | D37: 1001501-036-2026 | E37: 45698 | F37: 45698 | G37: 46021 | H37: 320 | I37: 43197000 | J37: 11 | K37: - | M37: 3927000 | N37: =I37-K37-L37-M37 -> #VALUE!
A38: 37 | B38: DIANA PATRICIA CONTRERAS MOLINA | C38: 52535068 | D38: 1001501-037-2026 | E38: 45698 | F38: 45698 | G38: 46021 | H38: 320 | I38: 43197000 | J38: 11 | K38: - | M38: 3927000 | N38: =I38-K38-L38-M38 -> #VALUE!
A39: 38 | B39: RUBEN DARIO BARRETO MAGON | C39: 43197000 | D39: 1001501-038-2026 | E39: 45698 | F39: 45698 | G39: 46021 | H39: 320 | I39: 43197000 | J39: 11 | K39: - | M39: 3927000 | N39: =I39-K39-L39-M39 -> #VALUE!
A40: 39 | B40: ALEXANDER VARELA LENIS | C40: 16461906 | D40: 1001501-039-2026 | E40: 45695 | F40: 45698 | G40: 46021 | H40: 320 | I40: 23100000 | J40: 11 | K40: - | M40: 2100000 | N40: =I40-K40-L40-M40 -> #VALUE!

Sheet opia aut mz
B6: AUTORIZACIÓN PARA PAGO 07 DE MARZO
B7: Nombre | C7: CEDULA | D7: # CONTRATO | E7: Fecha de contrato | F7: FECHA DE INICIO | G7: FECHA FIN | H7: duración en días | I7: VALOR CONTRATO | J7: # CUOTAS | K7: 45723 | L7: SALDO
A8: 70 | B8: DIANA CARABALI | C8: 1118297821 | D8: 1001501-070-2026 | E8: 45707 | F8: 45707 | G8: 45888 | H8: 210 | I8: 12600000 | J8: 6 | K8: 1050000 | L8: =+I8-K8 -> 11550000
A9: 83 | B9: GRAMXIS HERNANDEZ SANCHEZ | C9: 31480169 | D9: 1001501-083-2026 | E9: 45708 | F9: 45708 | G9: 45887 | H9: 180 | I9: 23562000 | J9: 6 | K9: 3927000 | L9: =+I9-K9 -> 19635000
A10: 84 | B10: LADY JHOANA MARQUEZ | C10: 31486544 | D10: 1001501-084-2026 | E10: 45708 | F10: 45708 | G10: 45885 | H10: 180 | I10: 12600000 | J10: 6 | K10: 1050000 | L10: =+I10-K10 -> 11550000
A11: 85 | B11: SANTIAGO OLAYA GIL | C11: 1109541282 | D11: 1001501-085-2026 | E11: 45708 | F11: 45708 | G11: 45887 | H11: 180 | I11: 12600000 | J11: 6 | K11: 1050000 | L11: =+I11-K11 -> 11550000
A12: 86 | B12: DUVAN FELIPE MANQUILLO | C12: 1002955578 | D12: 1001501-086-2026 | E12: 45708 | F12: 45708 | G12: 45889 | H12: 180 | I12: 10800000 | J12: 6 | K12: 900000 | L12: =+I12-K12 -> 9900000
B15: APROBO Y AUTORIZO: | G15: REALIZO:
B19: JAIME SANCHEZ LENIS | G19: CAMILA ERASO ROSERO
B20: DIRECTOR | G20: GESTIÓN DE TALENTO HUMANO-SST-AMBIENTAL
B23: FECHA DE REALIZACIÓN: | C23: 45723

Sheet Aut. 07 Mrz
B6: AUTORIZACIÓN PARA PAGO 07 DE MARZO
B7: Nombre | C7: CEDULA | D7: # CONTRATO | E7: Fecha de contrato | F7: FECHA DE INICIO | G7: FECHA FIN | H7: duración en días | I7: VALOR CONTRATO | J7: # CUOTAS | K7: 45723 | L7: SALDO
A8: 70 | B8: DIANA CARABALI | C8: 1118297821 | D8: 1001501-070-2026 | E8: 45707 | F8: 45707 | G8: 45888 | H8: 210 | I8: 12600000 | J8: 6 | K8: 1050000 | L8: =+I8-K8 -> 11550000
A9: 83 | B9: GRAMXIS HERNANDEZ SANCHEZ | C9: 31480169 | D9: 1001501-083-2026 | E9: 45708 | F9: 45708 | G9: 45887 | H9: 180 | I9: 23562000 | J9: 6 | K9: 3927000 | L9: =+I9-K9 -> 19635000
A10: 84 | B10: LADY JHOANA MARQUEZ | C10: 31486544 | D10: 1001501-084-2026 | E10: 45708 | F10: 45708 | G10: 45885 | H10: 180 | I10: 12600000 | J10: 6 | K10: 1050000 | L10: =+I10-K10 -> 11550000
A11: 85 | B11: SANTIAGO OLAYA GIL | C11: 1109541282 | D11: 1001501-085-2026 | E11: 45708 | F11: 45708 | G11: 45887 | H11: 180 | I11: 12600000 | J11: 6 | K11: 1050000 | L11: =+I11-K11 -> 11550000
A12: 86 | B12: DUVAN FELIPE MANQUILLO | C12: 1002955578 | D12: 1001501-086-2026 | E12: 45708 | F12: 45708 | G12: 45889 | H12: 180 | I12: 10800000 | J12: 6 | K12: 900000 | L12: =+I12-K12 -> 9900000
B15: APROBO Y AUTORIZO: | G15: REALIZO:
B19: JAIME SANCHEZ LENIS | G19: CAMILA ERASO ROSERO
B20: DIRECTOR | G20: GESTIÓN DE TALENTO HUMANO-SST-AMBIENTAL
B23: FECHA DE REALIZACIÓN: | C23: 45723

Sheet Aut. 30 Abr
B1: AUTORIZACIÓN PARA PAGO ABRIL 30 2025
A2: # | B2: Nombre | C2: CEDULA | D2: # CONTRATO | E2: Fecha de contrato | F2: FECHA FIN | G2: duración en días | H2: VALOR CONTRATO | I2: # CUOTAS | J2: Abril | K2: SALDO
A3: 1 | B3: CINDY YOHANA DELGADO GUZMÁN | C3: 1061721506 | D3: 1001501-001-2026 | E3: 45675 | F3: 46021 | G3: 342 | H3: 59834500 | I3: 12 | J3: 5200000 | K3: 41600000
A4: 2 | B4: CAMILA ERASO ROSERO | C4: 1118286512 | D4: 1001501-002-2026 | E4: 45677 | F4: 46006 | G4: 325 | H4: 43197000 | I4: 12 | J4: 3927000 | K4: 29452500
A5: 3 | B5: YUDY FERNANDA PUNGO | C5: 1118285993 | D5: 1001501-003-2026 | E5: 45677 | F5: 46006 | G5: 325 | H5: 43197000 | I5: 12 | J5: 3927000 | K5: 29452500
A6: 4 | B6: CARLOS EDWIN PIEDRAHITA GARCÍA | C6: 16457640 | D6: 1001501-004-2026 | E6: 45680 | F6: 46021 | G6: 337 | H6: 45160500 | I6: 12 | J6: 3927000 | K6: 31416000
A7: 5 | B7: DIANA CAROLINA MÁRQUEZ MOLINA | C7: 31487789 | D7: 1001501-005-2026 | E7: 45682 | F7: 46021 | G7: 335 | H7: 59834500 | I7: 12 | J7: 5200000 | K7: 41600000
A8: 6 | B8: MARÍA ELVIA BRION MOLINA | C8: 31476734 | D8: 1001501-006-2026 | E8: 45686 | F8: 46021 | G8: 301 | H8: 20700000 | I8: 12 | J8: 1800000 | K8: 14400000
A9: 7 | B9: OLGA PATRICIA CANO RENDÓN | C9: 31475449 | D9: 1001501-007-2026 | E9: 45686 | F9: 46006 | G9: 316 | H9: 43197000 | I9: 12 | J9: 3927000 | K9: 29452500
A10: 8 | B10: EDDIE ERIC POSADA HERRERA | C10: 1118289808 | D10: 1001501-008-2026 | E10: 45686 | F10: 46011 | G10: 318 | H10: 57233000 | I10: 12 | J10: 5200000 | K10: 39016500
A11: 9 | B11: WILLIAM ANDRÉS BRAVO GALINDO | C11: 1005785716 | D11: 1001501-009-2026 | E11: 45687 | F11: 46006 | G11: 315 | H11: 26620000 | I11: 12 | J11: 2420000 | K11: 18150000
A12: 10 | B12: LAURA VANESSA FRANCO MORALES | C12: 1118298717 | D12: 1001501-010-2026 | E12: 45687 | F12: 46006 | G12: 315 | H12: 26620000 | I12: 12 | J12: 2420000 | K12: 18150000
A13: 11 | B13: FRANK ROBERT MURIEL HOYOS | C13: 1118287494 | D13: 1001501-011-2026 | E13: 45687 | F13: 46006 | G13: 315 | H13: 26620000 | I13: 12 | J13: 2420000 | K13: 18150000
A14: 12 | B14: PAOLA ANDREA SANTAMARÍA FLÓREZ | C14: 31485502 | D14: 1001501-012-2026 | E14: 45687 | F14: 46006 | G14: 315 | H14: 23100000 | I14: 12 | J14: 2100000 | K14: 15750000
... A99: 102 | B99: ANDERSON DAVID BRAVO ZAMBRANO | C99: 1005897145 | D99: 1001501-102-2026 | E99: 45754 | F99: 45961 | G99: 203 | H99: 14700000 | I99: 7 | J99: 2100000 | K99: 12600000
H100: =SUM(H3:H99) -> 2146427500 | J100: =SUM(J3:J99) -> 247867000 | K100: 1431899500
B102: APROBO Y AUTORIZO: | F102: REALIZO:
B106: JAIME SANCHEZ LENIS | F106: CAMILA ERASO ROSERO
B107: DIRECTOR | F107: GESTIÓN DE TALENTO HUMANO-SST-AMBIENTAL
B110: FECHA DE REALIZACIÓN: | C110: 45777

Sheet Aut.27 jun
B1: AUTORIZACIÓN PARA PAGO JUNIO 27 2025
A2: # | B2: Nombre | C2: CEDULA | D2: # CONTRATO | E2: PROCESO | F2: SUPERVISOR | G2: APOYO SUPERVISIÓN | H2: Fecha de contrato | I2: FECHA DE INICIO | J2: FECHA FIN | K2: duración en días | L2: VALOR CONTRATO | M2: # CUOTAS | N2: Enr 30 | O2: feb-07 | P2: feb-28 | Q2: mar-07 | R2: mar-31 | S2: 45777 | T2: My 30 | U2: 45811 | V2: 45815 | W2: 45835 | X2: Julio | Y2: julio | Z2: Agosto | AA2: Agosto | AB2: Septiembre | AC2: Septiembre | AD2: Octubre | AE2: Octubre | AF2: Noviembre | AG2: Noviembre | AH2: Diciembre | AI2: Diciembre | AJ2: SALDO | AK2: OBSERVACIONES | AL2: PRESE
A3: 1 | B3: CINDY YOHANA DELGADO GUZMÁN | C3: 1061721506 | D3: 1001501-001-2026 | E3: JURIDICO | F3: JAIME SANCHEZ | G3: SIN APOYO | H3: 45675 | I3: 45675 | J3: 46021 | K3: 342 | L3: 59834500 | M3: 12 | N3: 2634500 | P3: 5200000 | R3: 5200000 | S3: 5200000 | T3: 5200000 | W3: 5200000 | AJ3: =L3-N3-O3-P3-Q3-R3-S3-T3-U3-V3-W3-X3-Y3-Z3-AA3-AB3-AC3-AD3-AE3-AF3-AG3-AH3-AI3 -> 31200000 | AL3: SI
A4: 2 | B4: CAMILA ERASO ROSERO | C4: 1118286512 | D4: 1001501-002-2026 | E4: TH | F4: JAIME SANCHEZ | G4: SIN APOYO | H4: 45677 | I4: 45677 | J4: 46006 | K4: 325 | L4: 43197000 | M4: 12 | N4: 1963500 | P4: 3927000 | R4: 3927000 | S4: 3927000 | T4: 3927000 | W4: 3927000 | AJ4: =L4-N4-O4-P4-Q4-R4-S4-T4-U4-V4-W4-X4-Y4-Z4-AA4-AB4-AC4-AD4-AE4-AF4-AG4-AH4-AI4 -> 21598500 | AL4: SI
A5: 3 | B5: YUDY FERNANDA PUNGO | C5: 1118285993 | D5: 1001501-003-2026 | E5: FINANCIERO | F5: VIVIANA ANDREA TENORIO | G5: SIN APOYO | H5: 45677 | I5: 45677 | J5: 46006 | K5: 325 | L5: 43197000 | M5: 12 | N5: 1963500 | P5: 3927000 | R5: 3927000 | S5: 3927000 | T5: 3927000 | W5: 3927000 | AJ5: =L5-N5-O5-P5-Q5-R5-S5-T5-U5-V5-W5-X5-Y5-Z5-AA5-AB5-AC5-AD5-AE5-AF5-AG5-AH5-AI5 -> 21598500 | AL5: SI
A6: 4 | B6: CARLOS EDWIN PIEDRAHITA GARCÍA | C6: 16457640 | D6: 1001501-004-2026 | E6: PLANEACIÓN | F6: JAIME SANCHEZ | G6: SIN APOYO | H6: 45680 | I6: 45680 | J6: 46021 | K6: 337 | L6: 45160500 | M6: 12 | N6: 1963500 | P6: 3927000 | R6: 3927000 | S6: 3927000 | U6: 3927000 | W6: 3927000 | AJ6: =L6-N6-O6-P6-Q6-R6-S6-T6-U6-V6-W6-X6-Y6-Z6-AA6-AB6-AC6-AD6-AE6-AF6-AG6-AH6-AI6 -> 23562000 | AL6: SI
A7: 5 | B7: DIANA CAROLINA MÁRQUEZ MOLINA | C7: 31487789 | D7: 1001501-005-2026 | E7: AGENCIA | F7: JAIME SANCHEZ | G7: SIN APOYO | H7: 45682 | I7: 45316 | J7: 46021 | K7: 335 | L7: 59834500 | M7: 12 | N7: 2634500 | P7: 5200000 | R7: 5200000 | S7: 5200000 | T7: 5200000 | W7: 5200000 | AJ7: =L7-N7-O7-P7-Q7-R7-S7-T7-U7-V7-W7-X7-Y7-Z7-AA7-AB7-AC7-AD7-AE7-AF7-AG7-AH7-AI7 -> 31200000 | AL7: SI
A8: 6 | B8: MARÍA ELVIA BRION MOLINA | C8: 31476734 | D8: 1001501-006-2026 | E8: ATENCIÓN | F8: JAIME SANCHEZ | G8: WILLAR GONZALEZ | H8: 45686 | I8: 45686 | J8: 46021 | K8: 301 | L8: 20700000 | M8: 12 | O8: 900000 | P8: 1800000 | R8: 1800000 | S8: 1800000 | T8: 1800000 | W8: 1800000 | AJ8: =L8-N8-O8-P8-Q8-R8-S8-T8-U8-V8-W8-X8-Y8-Z8-AA8-AB8-AC8-AD8-AE8-AF8-AG8-AH8-AI8 -> 10800000 | AL8: SI
A9: 7 | B9: OLGA PATRICIA CANO RENDÓN | C9: 31475449 | D9: 1001501-007-2026 | E9: SST | F9: JAIME SANCHEZ | G9: CAMILA ERASO R | H9: 45686 | I9: 45686 | J9: 46006 | K9: 316 | L9: 43197000 | M9: 12 | O9: 1963500 | P9: 3927000 | R9: 3927000 | S9: 3927000 | T9: 3927000 | W9: 3927000 | AJ9: =L9-N9-O9-P9-Q9-R9-S9-T9-U9-V9-W9-X9-Y9-Z9-AA9-AB9-AC9-AD9-AE9-AF9-AG9-AH9-AI9 -> 21598500 | AL9: SI
A10: 8 | B10: WILLIAM ANDRÉS BRAVO GALINDO | C10: 1005785716 | D10: 1001501-009-2026 | E10: JURIDICO | F10: JAIME SANCHEZ | G10: YOHANA DELGADO | H10: 45687 | I10: 45687 | J10: 46006 | K10: 315 | L10: 26620000 | M10: 12 | O10: 1210000 | P10: 2420000 | R10: 2420000 | S10: 2420000 | T10: 2420000 | W10: 2420000 | AJ10: =L10-N10-O10-P10-Q10-R10-S10-T10-U10-V10-W10-X10-Y10-Z10-AA10-AB10-AC10-AD10-AE10-AF10-AG10-AH10-AI10 -> 13310000 | AL10: SI
A11: 9 | B11: LAURA VANESSA FRANCO MORALES | C11: 1118298717 | D11: 1001501-010-2026 | E11: ARCHIVO | F11: JAIME SANCHEZ | G11: SIN APOYO | H11: 45687 | I11: 45687 | J11: 46006 | K11: 315 | L11: 26620000 | M11: 12 | O11: 1210000 | P11: 2420000 | R11: 2420000 | S11: 2420000 | T11: 2420000 | W11: 2420000 | AJ11: =L11-N11-O11-P11-Q11-R11-S11-T11-U11-V11-W11-X11-Y11-Z11-AA11-AB11-AC11-AD11-AE11-AF11-AG11-AH11-AI11 -> 13310000 | AL11: SI
A12: 10 | B12: FRANK ROBERT MURIEL HOYOS | C12: 1118287494 | D12: 1001501-011-2026 | E12: AMBIENTAL | F12: RUBEN DARIO MILLAN | G12: SIN APOYO | H12: 45687 | I12: 45687 | J12: 46006 | K12: 315 | L12: 26620000 | M12: 12 | O12: 1210000 | P12: 2420000 | R12: 2420000 | S12: 2420000 | T12: 2420000 | W12: 2420000 | AJ12: =L12-N12-O12-P12-Q12-R12-S12-T12-U12-V12-W12-X12-Y12-Z12-AA12-AB12-AC12-AD12-AE12-AF12-AG12-AH12-AI12 -> 13310000 | AL12: SI
A13: 11 | B13: PAOLA ANDREA SANTAMARÍA FLÓREZ | C13: 31485502 | D13: 1001501-012-2026 | E13: TH | F13: JAIME SANCHEZ | G13: CAMILA ERASO R | H13: 45687 | I13: 45687 | J13: 46006 | K13: 315 | L13: 23100000 | M13: 12 | O13: 1050000 | P13: 2100000 | R13: 2100000 | S13: 2100000 | T13: 2100000 | W13: 2100000 | AJ13: =L13-N13-O13-P13-Q13-R13-S13-T13-U13-V13-W13-X13-Y13-Z13-AA13-AB13-AC13-AD13-AE13-AF13-AG13-AH13-AI13 -> 11550000 | AL13: SI | AM13: entregada 26-06-25
A14: 12 | B14: OMAR RESTREPO ZÚÑIGA | C14: 16454607 | D14: 1001501-014-2026 | E14: LOGISTICA | F14: CATALINA MONCADA | G14: OLGA PATRICIA CANO | H14: 45688 | I14: 45688 | J14: 46006 | K14: 315 | L14: 19800000 | M14: 12 | O14: 900000 | P14: 1800000 | R14: 1800000 | S14: 1800000 | T14: 1800000 | W14: 1800000 | AJ14: =L14-N14-O14-P14-Q14-R14-S14-T14-U14-V14-W14-X14-Y14-Z14-AA14-AB14-AC14-AD14-AE14-AF14-AG14-AH14-AI14 -> 9900000 | AL14: SI
A15: 13 | B15: JHON EDISON CÓRDOBA ORDOÑEZ | C15: 1118301461 | D15: 1001501-015-2026 | E15: LOGISTICA | F15: VIVIANA ANDREA TENORIO | G15: FERNANDA PUNGO | H15: 45688 | I15: 45688 | J15: 46006 | K15: 315 | L15: 19800000 | M15: 12 | O15: 900000 | P15: 1800000 | R15: 1800000 | S15: 1800000 | T15: 1800000 | W15: 1800000 | AJ15: =L15-N15-O15-P15-Q15-R15-S15-T15-U15-V15-W15-X15-Y15-Z15-AA15-AB15-AC15-AD15-AE15-AF15-AG15-AH15-AI15 -> 9900000 | AL15: SI
A16: 14 | B16: JOSÉ ATANEL QUICENO TORRES | C16: 94193787 | D16: 1001501-016-2026 | E16: LOGISTICA | F16: CATALINA MONCADA | G16: OLGA PATRICIA CANO | H16: 45688 | I16: 45688 | J16: 46006 | K16: 315 | L16: 19800000 | M16: 12 | O16: 900000 | P16: 1800000 | R16: 1800000 | S16: 1800000 | T16: 1800000 | W16: 1800000 | AJ16: =L16-N16-O16-P16-Q16-R16-S16-T16-U16-V16-W16-X16-Y16-Z16-AA16-AB16-AC16-AD16-AE16-AF16-AG16-AH16-AI16 -> 9900000 | AL16: SI
A17: 15 | B17: LUZ AIDE MUÑOZ ORTEGA | C17: 27149631 | D17: 1001501-018-2026 | E17: LOGISTICA | F17: VIVIANA ANDREA TENORIO | G17: FERNANDA PUNGO | H17: 45688 | I17: 45688 | J17: 46006 | K17: 315 | L17: 19800000 | M17: 12 | O17: 900000 | P17: 1800000 | R17: 1800000 | S17: 1800000 | T17: 1800000 | W17: 1800000 | AJ17: =L17-N17-O17-P17-Q17-R17-S17-T17-U17-V17-W17-X17-Y17-Z17-AA17-AB17-AC17-AD17-AE17-AF17-AG17-AH17-AI17 -> 9900000 | AL17: SI
A18: 16 | B18: LENIN GILBERTO RUIZ AYALA | C18: 6549670 | D18: 1001501-019-2026 | E18: CONTROL INTERNO | F18: JAIME SANCHEZ | G18: SIN APOYO | H18: 45688 | I18: 45688 | J18: 46006 | K18: 315 | L18: 43197000 | M18: 12 | O18: 1963500 | P18: 3927000 | R18: 3927000 | S18: 3927000 | T18: 3927000 | W18: 3927000 | AJ18: =L18-N18-O18-P18-Q18-R18-S18-T18-U18-V18-W18-X18-Y18-Z18-AA18-AB18-AC18-AD18-AE18-AF18-AG18-AH18-AI18 -> 21598500 | AL18: SI
A19: 17 | B19: PABLO STEVEN PABÓN POLANCO | C19: 1110285162 | D19: 1001501-021-2026 | E19: ATENCIÓN | F19: JAIME SANCHEZ | G19: WILLAR GONZALEZ | H19: 45689 | I19: 45689 | J19: 46021 | K19: 329 | L19: 23100000 | M19: 12 | N19: - | P19: 2100000 | R19: 2100000 | S19: 2100000 | T19: 2100000 | W19: 2100000 | AJ19: =L19-N19-O19-P19-Q19-R19-S19-T19-U19-V19-W19-X19-Y19-Z19-AA19-AB19-AC19-AD19-AE19-AF19-AG19-AH19-AI19 -> #VALUE! | AL19: SI
A20: 18 | B20: MILTON ARIAS VARGAS | C20: 16460613 | D20: 1001501-022-2026 | E20: ATENCIÓN | F20: JAIME SANCHEZ | G20: WILLAR GONZALEZ | H20: 45689 | I20: 45689 | J20: 46021 | K20: 329 | L20: 23100000 | M20: 11 | N20: - | P20: 2100000 | R20: 2100000 | S20: 2100000 | T20: 2100000 | W20: 2100000 | AJ20: =L20-N20-O20-P20-Q20-R20-S20-T20-U20-V20-W20-X20-Y20-Z20-AA20-AB20-AC20-AD20-AE20-AF20-AG20-AH20-AI20 -> #VALUE! | AL20: SI
A21: 19 | B21: KELLY JOHANNA RIVERA DÍAZ | C21: 1118303170 | D21: 1001501-023-2026 | E21: BIENESTAR - ACADEMICO | F21: RUBEN DARIO MILLAN | G21: SIN APOYO | H21: 45689 | I21: 45689 | J21: 46006 | K21: 315 | L21: 43197000 | M21: 12 | O21: 1963500 | P21: 3927000 | R21: 3927000 | S21: 3927000 | T21: 3927000 | W21: 3927000 | AJ21: =L21-N21-O21-P21-Q21-R21-S21-T21-U21-V21-W21-X21-Y21-Z21-AA21-AB21-AC21-AD21-AE21-AF21-AG21-AH21-AI21 -> 21598500 | AL21: SI
A22: 20 | B22: WILLAR GONZALES TORO | C22: 1118305806 | D22: 1001501-024-2026 | E22: COMUNICACIONES | F22: JAIME SANCHEZ | G22: SIN APOYO | H22: 45689 | I22: 45689 | J22: 46006 | K22: 315 | L22: 43197000 | M22: 12 | O22: 1963500 | P22: 3927000 | R22: 3927000 | S22: 3927000 | T22: 3927000 | W22: 3927000 | AJ22: =L22-N22-O22-P22-Q22-R22-S22-T22-U22-V22-W22-X22-Y22-Z22-AA22-AB22-AC22-AD22-AE22-AF22-AG22-AH22-AI22 -> 21598500 | AL22: SI | AM22: entregada 26-06-25
A23: 21 | B23: DIEGO JAVIER ALZATE CUERO | C23: 16455217 | D23: 1001501-025-2026 | E23: PLANEACIÓN | F23: JAIME SANCHEZ | G23: CARLOS EDWIN PIEDRAHITA | H23: 45689 | I23: 45689 | J23: 46006 | K23: 315 | L23: 43197000 | M23: 12 | O23: 1963500 | P23: 3927000 | R23: 3927000 | S23: 3927000 | U23: 3927000 | W23: 3927000 | AJ23: =L23-N23-O23-P23-Q23-R23-S23-T23-U23-V23-W23-X23-Y23-Z23-AA23-AB23-AC23-AD23-AE23-AF23-AG23-AH23-AI23 -> 21598500 | AL23: SI
A24: 22 | B24: JULIANA MOSQUERA VARGAS | C24: 1118295433 | D24: 1001501-026-2026 | E24: PRACTICAS - ACADEMICO | F24: RUBEN DARIO MILLAN | G24: SIN APOYO | H24: 45689 | I24: 45689 | J24: 46006 | K24: 315 | L24: 43197000 | M24: 12 | O24: 1963500 | P24: 3927000 | R24: 3927000 | S24: 3927000 | T24: 3927000 | W24: 3927000 | AJ24: =L24-N24-O24-P24-Q24-R24-S24-T24-U24-V24-W24-X24-Y24-Z24-AA24-AB24-AC24-AD24-AE24-AF24-AG24-AH24-AI24 -> 21598500 | AL24: SI
A25: 23 | B25: LEYDI TATIANA ORTIZ RENGIFO | C25: 1118309496 | D25: 1001501-027-2026 | E25: AGENCIA | F25: JAIME SANCHEZ | G25: DIANA CAROLINA MARQUEZ | H25: 45689 | I25: 45689 | J25: 46006 | K25: 315 | L25: 43197000 | M25: 12 | O25: 1963500 | P25: 3927000 | R25: 3927000 | S25: 3927000 | T25: 3927000 | W25: 3927000 | AJ25: =L25-N25-O25-P25-Q25-R25-S25-T25-U25-V25-W25-X25-Y25-Z25-AA25-AB25-AC25-AD25-AE25-AF25-AG25-AH25-AI25 -> 21598500 | AL25: SI
A26: 24 | B26: ANA SOFÍA TELLO HERRERA | C26: 31485180 | D26: 1001501-028-2026 | E26: AGENCIA | F26: JAIME SANCHEZ | G26: DIANA CAROLINA MARQUEZ | H26: 45689 | I26: 45689 | J26: 46006 | K26: 315 | L26: 43197000 | M26: 12 | O26: 1963500 | P26: 3927000 | R26: 3927000 | S26: 3927000 | T26: 3927000 | W26: 3927000 | AJ26: =L26-N26-O26-P26-Q26-R26-S26-T26-U26-V26-W26-X26-Y26-Z26-AA26-AB26-AC26-AD26-AE26-AF26-AG26-AH26-AI26 -> 21598500 | AL26: SI
A27: 25 | B27: ANGÉLICA MARÍA RIVERA VALENCIA | C27: 31486456 | D27: 1001501-029-2026 | E27: AGENCIA | F27: JAIME SANCHEZ | G27: DIANA CAROLINA MARQUEZ | H27: 45689 | I27: 45689 | J27: 46006 | K27: 315 | L27: 43197000 | M27: 12 | O27: 1963500 | P27: 3927000 | R27: 3927000 | S27: 3927000 | T27: 3927000 | W27: 3927000 | AJ27: =L27-N27-O27-P27-Q27-R27-S27-T27-U27-V27-W27-X27-Y27-Z27-AA27-AB27-AC27-AD27-AE27-AF27-AG27-AH27-AI27 -> 21598500 | AL27: SI
A28: 26 | B28: NATHALIA JIMÉNEZ CARVAJAL | C28: 1144201554 | D28: 1001501-030-2026 | E28: AGENCIA | F28: JAIME SANCHEZ | G28: DIANA CAROLINA MARQUEZ | H28: 45689 | I28: 45689 | J28: 46006 | K28: 315 | L28: 43197000 | M28: 12 | O28: 1963500 | P28: 3927000 | R28: 3927000 | S28: 3927000 | T28: 3927000 | W28: 3927000 | AJ28: =L28-N28-O28-P28-Q28-R28-S28-T28-U28-V28-W28-X28-Y28-Z28-AA28-AB28-AC28-AD28-AE28-AF28-AG28-AH28-AI28 -> 21598500 | AL28: SI
A29: 27 | B29: CLAUDIA FERNANDA GARCÉS PULIDO | C29: 66862669 | D29: 1001501-031-2026 | E29: AGENCIA | F29: JAIME SANCHEZ | G29: DIANA CAROLINA MARQUEZ | H29: 45689 | I29: 45689 | J29: 46006 | K29: 315 | L29: 23100000 | M29: 12 | O29: 1050000 | P29: 2100000 | R29: 2100000 | S29: 2100000 | T29: 2100000 | W29: 2100000 | AJ29: =L29-N29-O29-P29-Q29-R29-S29-T29-U29-V29-W29-X29-Y29-Z29-AA29-AB29-AC29-AD29-AE29-AF29-AG29-AH29-AI29 -> 11550000 | AL29: SI
A30: 28 | B30: GLADIS JOHANA OLAYA LIZARRALDE | C30: 31485452 | D30: 1001501-032-2026 | E30: AGENCIA | F30: JAIME SANCHEZ | G30: DIANA CAROLINA MARQUEZ | H30: 45689 | I30: 45689 | J30: 46006 | K30: 315 | L30: 23100000 | M30: 12 | O30: 1050000 | P30: 2100000 | R30: 2100000 | S30: 2100000 | T30: 2100000 | W30: 2100000 | AJ30: =L30-N30-O30-P30-Q30-R30-S30-T30-U30-V30-W30-X30-Y30-Z30-AA30-AB30-AC30-AD30-AE30-AF30-AG30-AH30-AI30 -> 11550000 | AL30: SI
A31: 29 | B31: NORA LILIANA CORRALES GONZÁLEZ | C31: 31476109 | D31: 1001501-033-2026 | E31: AGENCIA | F31: JAIME SANCHEZ | G31: DIANA CAROLINA MARQUEZ | H31: 45689 | I31: 45689 | J31: 46006 | K31: 315 | L31: 19800000 | M31: 12 | O31: 900000 | P31: 1800000 | R31: 1800000 | S31: 1800000 | T31: 1800000 | W31: 1800000 | AJ31: =L31-N31-O31-P31-Q31-R31-S31-T31-U31-V31-W31-X31-Y31-Z31-AA31-AB31-AC31-AD31-AE31-AF31-AG31-AH31-AI31 -> 9900000 | AL31: SI
A32: 30 | B32: JHON SEBASTIÁN PAYAN ORTIZ | C32: 1193142882 | D32: 1001501-034-2026 | E32: AGENCIA | F32: JAIME SANCHEZ | G32: DIANA CAROLINA MARQUEZ | H32: 45689 | I32: 45689 | J32: 46006 | K32: 315 | L32: 19800000 | M32: 12 | O32: 900000 | P32: 1800000 | R32: 1800000 | S32: 1800000 | T32: 1800000 | W32: 1800000 | AJ32: =L32-N32-O32-P32-Q32-R32-S32-T32-U32-V32-W32-X32-Y32-Z32-AA32-AB32-AC32-AD32-AE32-AF32-AG32-AH32-AI32 -> 9900000 | AL32: SI
A33: 31 | B33: FRANCISCO RAFAEL HERAZO SANTIZ | C33: 8661306 | D33: 1001501-036-2026 | E33: CALIDAD | F33: JAIME SANCHEZ | G33: EDDI ERICK POSADA | H33: 45698 | I33: 45698 | J33: 46021 | K33: 320 | L33: 43197000 | M33: 11 | N33: - | P33: 3927000 | R33: 3927000 | S33: 3927000 | T33: 3927000 | W33: 3927000 | AJ33: =L33-N33-O33-P33-Q33-R33-S33-T33-U33-V33-W33-X33-Y33-Z33-AA33-AB33-AC33-AD33-AE33-AF33-AG33-AH33-AI33 -> #VALUE! | AL33: SI
A34: 32 | B34: DIANA PATRICIA CONTRERAS MOLINA | C34: 52535068 | D34: 1001501-037-2026 | E34: PLANEACIÓN | F34: JAIME SANCHEZ | G34: CARLOS EDWIN PIEDRAHITA | H34: 45695 | I34: 45698 | J34: 46021 | K34: 320 | L34: 43197000 | M34: 11 | N34: - | P34: 3927000 | R34: 3927000 | S34: 3927000 | T34: - | U34: 3927000 | W34: 3927000 | AJ34: =L34-N34-O34-P34-Q34-R34-S34-T34-U34-V34-W34-X34-Y34-Z34-AA34-AB34-AC34-AD34-AE34-AF34-AG34-AH34-AI34 -> #VALUE! | AL34: SI
A35: 33 | B35: RUBEN DARIO BARRETO MAGON | C35: 6341430 | D35: 1001501-038-2026 | E35: TICS | F35: JAIME SANCHEZ | G35: SIN APOYO | H35: 45698 | I35: 45699 | J35: 46021 | K35: 320 | L35: 43197000 | M35: 11 | N35: - | P35: 3927000 | R35: 3927000 | S35: 3927000 | T35: 3927000 | W35: 3927000 | AJ35: =L35-N35-O35-P35-Q35-R35-S35-T35-U35-V35-W35-X35-Y35-Z35-AA35-AB35-AC35-AD35-AE35-AF35-AG35-AH35-AI35 -> #VALUE! | AL35: SI
A36: 34 | B36: ALEXANDER VARELA LENIS | C36: 16461906 | D36: 1001501-039-2026 | E36: LOGISTICA | F36: CATALINA MONCADA | G36: OLGA PATRICIA CANO | H36: 45695 | I36: 45698 | J36: 46021 | K36: 320 | L36: 23100000 | M36: 11 | N36: - | P36: 2100000 | R36: 2100000 | S36: 2100000 | T36: 2100000 | W36: 2100000 | AJ36: =L36-N36-O36-P36-Q36-R36-S36-T36-U36-V36-W36-X36-Y36-Z36-AA36-AB36-AC36-AD36-AE36-AF36-AG36-AH36-AI36 -> #VALUE! | AL36: SI
A37: 35 | B37: MARBEL CONTRERAS VARGAS | C37: 22662391 | D37: 1001501-042-2026 | E37: TLC ACADEMICO | F37: RUBEN DARIO MILLAN | H37: 45706 | I37: 45706 | J37: 45918 | K37: 210 | L37: 14700000 | M37: 8 | N37: - | Q37: 1050000 | R37: 2100000 | S37: 2100000 | T37: 2100000 | W37: 2100000 | AJ37: =L37-N37-O37-P37-Q37-R37-S37-T37-U37-V37-W37-X37-Y37-Z37-AA37-AB37-AC37-AD37-AE37-AF37-AG37-AH37-AI37 -> #VALUE! | AL37: SI
A38: 36 | B38: PABLO ANTONIO CRUZ PALECHOR | C38: 76345164 | D38: 1001501-043-2026 | E38: TLC ACADEMICO | F38: RUBEN DARIO MILLAN | H38: 45706 | I38: 45706 | J38: 45918 | K38: 210 | L38: 14700000 | M38: 8 | N38: - | Q38: 1050000 | R38: 2100000 | S38: 2100000 | T38: 2100000 | W38: 2100000 | AJ38: =L38-N38-O38-P38-Q38-R38-S38-T38-U38-V38-W38-X38-Y38-Z38-AA38-AB38-AC38-AD38-AE38-AF38-AG38-AH38-AI38 -> #VALUE! | AL38: SI
A39: 37 | B39: LISA MARIA TELLO HENAO | C39: 1118303696 | D39: 1001501-044-2026 | E39: TLC ACADEMICO | F39: RUBEN DARIO MILLAN | H39: 45706 | I39: 45706 | J39: 45918 | K39: 210 | L39: 14700000 | M39: 8 | N39: - | Q39: 1050000 | R39: 2100000 | S39: 2100000 | T39: 2100000 | W39: 2100000 | AJ39: =L39-N39-O39-P39-Q39-R39-S39-T39-U39-V39-W39-X39-Y39-Z39-AA39-AB39-AC39-AD39-AE39-AF39-AG39-AH39-AI39 -> #VALUE! | AL39: SI
A40: 38 | B40: LUZ KARIME CORTES SALGADO | C40: 1115085069 | D40: 1001501-045-2026 | E40: TLC ACADEMICO | F40: RUBEN DARIO MILLAN | H40: 45706 | I40: 45706 | J40: 45918 | K40: 210 | L40: 14700000 | M40: - | Q40: 1050000 | R40: 2100000 | S40: 2100000 | T40: 2100000 | W40: 2100000 | AJ40: =L40-N40-O40-P40-Q40-R40-S40-T40-U40-V40-W40-X40-Y40-Z40-AA40-AB40-AC40-AD40-AE40-AF40-AG40-AH40-AI40 -> 5250000 | AL40: SI
...

Sheet Base datos
A1: # | C1: CEDULA | D1: # CONTRATO | E1: PROCESO | F1: SUPERVISOR | G1: APOYO SUPERVISIÓN | H1: Fecha de contrato | I1: FECHA DE INICIO | J1: FECHA FIN | K1: duración en días | L1: VALOR CONTRATO | M1: # CUOTAS | N1: Enr 30 | O1: feb-07 | P1: feb-28 | Q1: mar-07 | R1: mar-31 | S1: 45777 | T1: My 30 | U1: 45811 | V1: 45815 | W1: 45835 | X1: Julio | Y1: julio | Z1: Agosto | AA1: 45898 | AB1: Septiembre | AC1: Septiembre | AD1: Octubre | AE1: Octubre | AF1: Noviembre | AG1: Noviembre | AH1: Diciembre 15 - 19 | AI1: Diciembre 20-26 | AJ1: Diciembre 30-25 | AK1: SALDO | AL1: otro si
A2: 1 | B2: CINDY YOHANA DELGADO GUZMÁN | C2: 1061721506 | D2: 1001501-001-2026 | E2: JURIDICO | F2: JAIME SANCHEZ | G2: SIN APOYO | H2: 45675 | I2: 45675 | J2: 46021 | K2: 342 | L2: 59834500 | M2: 12 | N2: 2634500 | P2: 5200000 | R2: 5200000 | S2: 5200000 | T2: 5200000 | W2: 5200000 | X2: 5200000 | AA2: 5200000 | AC2: 5200000 | AE2: 5200000 | AF2: 5200000 | AH2: - | AJ2: 5200000 | AK2: =(L2+AL2)-N2-O2-P2-Q2-R2-S2-T2-U2-V2-W2-X2-Y2-Z2-AA2-AB2-AC2-AD2-AE2-AF2-AG2-AH2-AI2-AJ2 -> #VALUE! | AL2: 0 | AM2: 1 | AQ2: f
A3: 2 | B3: CAMILA ERASO ROSERO | C3: 1118286512 | D3: 1001501-002-2026 | E3: TH | F3: JAIME SANCHEZ | G3: SIN APOYO | H3: 45677 | I3: 45677 | J3: 46006 | K3: 325 | L3: 43197000 | M3: 12 | N3: 1963500 | P3: 3927000 | R3: 3927000 | S3: 3927000 | T3: 3927000 | W3: 3927000 | X3: 3927000 | AA3: 3927000 | AC3: 3927000 | AE3: 3927000 | AF3: 3927000 | AH3: - | AJ3: 3927000 | AK3: =(L3+AL3)-N3-O3-P3-Q3-R3-S3-T3-U3-V3-W3-X3-Y3-Z3-AA3-AB3-AC3-AD3-AE3-AF3-AG3-AH3-AI3-AJ3 -> #VALUE! | AL3: 1963500 | AM3: 1 | AQ3: f
A4: 3 | B4: YUDY FERNANDA PUNGO POTOSI | C4: 1118285993 | D4: 1001501-003-2026 | E4: FINANCIERO | F4: VIVIANA ANDREA TENORIO | G4: SIN APOYO | H4: 45677 | I4: 45677 | J4: 46006 | K4: 325 | L4: 43197000 | M4: 12 | N4: 1963500 | P4: 3927000 | R4: 3927000 | S4: 3927000 | T4: 3927000 | W4: 3927000 | X4: 3927000 | AA4: 3927000 | AC4: 3927000 | AE4: 3927000 | AF4: 3927000 | AH4: - | AJ4: 3927000 | AK4: =(L4+AL4)-N4-O4-P4-Q4-R4-S4-T4-U4-V4-W4-X4-Y4-Z4-AA4-AB4-AC4-AD4-AE4-AF4-AG4-AH4-AI4-AJ4 -> #VALUE! | AL4: 1963500 | AM4: 1 | AN4: =43197000+1963500 -> 45160500 | AQ4: f
A5: 4 | B5: CARLOS EDWIN PIEDRAHITA GARCÍA | C5: 16457640 | D5: 1001501-004-2026 | E5: PLANEACIÓN | F5: JAIME SANCHEZ | G5: SIN APOYO | H5: 45680 | I5: 45680 | J5: 46021 | K5: 337 | L5: 45160500 | M5: 12 | N5: 1963500 | P5: 3927000 | R5: 3927000 | S5: 3927000 | U5: 3927000 | W5: 3927000 | X5: 3927000 | AA5: 3927000 | AC5: 3927000 | AE5: 3927000 | AF5: 3927000 | AH5: - | AJ5: 3927000 | AK5: =(L5+AL5)-N5-O5-P5-Q5-R5-S5-T5-U5-V5-W5-X5-Y5-Z5-AA5-AB5-AC5-AD5-AE5-AF5-AG5-AH5-AI5-AJ5 -> #VALUE! | AL5: 0 | AM5: 1 | AQ5: m
A6: 5 | B6: DIANA CAROLINA MARQUEZ | C6: 31487789 | D6: 1001501-005-2026 | E6: AGENCIA | F6: JAIME SANCHEZ | G6: SIN APOYO | H6: 45682 | I6: 45316 | J6: 46021 | K6: 335 | L6: 59834500 | M6: 12 | N6: 2634500 | P6: 5200000 | R6: 5200000 | S6: 5200000 | T6: 5200000 | W6: 5200000 | X6: 5200000 | AA6: 5200000 | AC6: 5200000 | AE6: 5200000 | AF6: 5200000 | AH6: - | AJ6: 5200000 | AK6: =(L6+AL6)-N6-O6-P6-Q6-R6-S6-T6-U6-V6-W6-X6-Y6-Z6-AA6-AB6-AC6-AD6-AE6-AF6-AG6-AH6-AI6-AJ6 -> #VALUE! | AL6: 0 | AM6: 1 | AQ6: f
A7: 6 | B7: MARIA ELVIA BRION MOLINA | C7: 31476734 | D7: 1001501-006-2026 | E7: ATENCIÓN | F7: JAIME SANCHEZ | G7: WILLAR GONZALEZ | H7: 45686 | I7: 45686 | J7: 46021 | K7: 301 | L7: 20700000 | M7: 12 | O7: 900000 | P7: 1800000 | R7: 1800000 | S7: 1800000 | T7: 1800000 | W7: 1800000 | X7: 1800000 | AA7: 1800000 | AC7: 1800000 | AE7: 1800000 | AF7: 1800000 | AH7: - | AJ7: 1800000 | AK7: =(L7+AL7)-N7-O7-P7-Q7-R7-S7-T7-U7-V7-W7-X7-Y7-Z7-AA7-AB7-AC7-AD7-AE7-AF7-AG7-AH7-AI7-AJ7 -> #VALUE! | AL7: 0 | AM7: 1 | AQ7: f
A8: 7 | B8: OLGA PATRICIA CANO RENDÓN | C8: 31475449 | D8: 1001501-007-2026 | E8: SST | F8: JAIME SANCHEZ | G8: CAMILA ERASO R | H8: 45686 | I8: 45686 | J8: 46006 | K8: 316 | L8: 43197000 | M8: 12 | O8: 1963500 | P8: 3927000 | R8: 3927000 | S8: 3927000 | T8: 3927000 | W8: 3927000 | X8: 3927000 | AA8: 3927000 | AC8: 3927000 | AE8: 3927000 | AF8: 3927000 | AH8: 1963500 | AK8: =(L8+AL8)-N8-O8-P8-Q8-R8-S8-T8-U8-V8-W8-X8-Y8-Z8-AA8-AB8-AC8-AD8-AE8-AF8-AG8-AH8-AI8-AJ8 -> 0 | AL8: 0 | AQ8: f
A9: 8 | B9: EDDIE ERIC POSADA HERRERA | C9: 1118289808 | D9: 1001501-008-2026 | E9: CALIDAD | F9: JAIME SANCHEZ | G9: JHON JAIRO | H9: 45686 | I9: 45689 | J9: 46011 | K9: 318 | L9: 57233000 | M9: 12 | O9: 2616500 | P9: 5200000 | R9: 5200000 | S9: 5200000 | U9: 5200000 | W9: 5200000 | X9: 5200000 | AA9: 5200000 | AC9: 5200000 | AE9: 5200000 | AF9: 5200000 | AH9: - | AI9: 2616500 | AK9: =(L9+AL9)-N9-O9-P9-Q9-R9-S9-T9-U9-V9-W9-X9-Y9-Z9-AA9-AB9-AC9-AD9-AE9-AF9-AG9-AH9-AI9-AJ9 -> #VALUE! | AL9: 0 | AQ9: m
A10: 9 | B10: WILLIAM ANDRÉS BRAVO GALINDO | C10: 1005785716 | D10: 1001501-009-2026 | E10: JURIDICO | F10: JAIME SANCHEZ | G10: YOHANA DELGADO | H10: 45687 | I10: 45687 | J10: 46006 | K10: 315 | L10: 26620000 | M10: 12 | O10: 1210000 | P10: 2420000 | R10: 2420000 | S10: 2420000 | T10: 2420000 | W10: 2420000 | X10: 2420000 | AA10: 2420000 | AC10: 2420000 | AE10: 2420000 | AF10: 2420000 | AH10: - | AJ10: 2420000 | AK10: =(L10+AL10)-N10-O10-P10-Q10-R10-S10-T10-U10-V10-W10-X10-Y10-Z10-AA10-AB10-AC10-AD10-AE10-AF10-AG10-AH10-AI10-AJ10 -> #VALUE! | AL10: 1210000 | AM10: 1 | AQ10: m
A11: 10 | B11: LAURA VANESSA FRANCO MORALES | C11: 1118298717 | D11: 1001501-010-2026 | E11: ARCHIVO | F11: JAIME SANCHEZ | G11: Yamileth | H11: 45687 | I11: 45687 | J11: 46006 | K11: 315 | L11: 26620000 | M11: 12 | O11: 1210000 | P11: 2420000 | R11: 2420000 | S11: 2420000 | T11: 2420000 | W11: 2420000 | X11: 2420000 | AA11: 2420000 | AC11: 2420000 | AE11: 2420000 | AF11: 2420000 | AH11: 1210000 | AK11: =(L11+AL11)-N11-O11-P11-Q11-R11-S11-T11-U11-V11-W11-X11-Y11-Z11-AA11-AB11-AC11-AD11-AE11-AF11-AG11-AH11-AI11-AJ11 -> 0 | AL11: 0 | AQ11: f
A12: 11 | B12: FRANK ROBERT MURIEL HOYOS | C12: 1118287494 | D12: 1001501-011-2026 | E12: AMBIENTAL | F12: RUBEN DARIO MILLAN | G12: SIN APOYO | H12: 45687 | I12: 45687 | J12: 46006 | K12: 315 | L12: 26620000 | M12: 12 | O12: 1210000 | P12: 2420000 | R12: 2420000 | S12: 2420000 | T12: 2420000 | W12: 2420000 | X12: 2420000 | AA12: 2420000 | AC12: 2420000 | AE12: 2420000 | AF12: 2420000 | AH12: - | AJ12: 2420000 | AK12: =(L12+AL12)-N12-O12-P12-Q12-R12-S12-T12-U12-V12-W12-X12-Y12-Z12-AA12-AB12-AC12-AD12-AE12-AF12-AG12-AH12-AI12-AJ12 -> #VALUE! | AL12: 1210000 | AM12: 1 | AQ12: m
A13: 12 | B13: PAOLA ANDREA SANTAMARÍA FLÓREZ | C13: 31485502 | D13: 1001501-012-2026 | E13: TH | F13: JAIME SANCHEZ | G13: CAMILA ERASO R | H13: 45687 | I13: 45687 | J13: 46006 | K13: 315 | L13: 23100000 | M13: 12 | O13: 1050000 | P13: 2100000 | R13: 2100000 | S13: 2100000 | T13: 2100000 | W13: 2100000 | X13: 2100000 | AA13: 2100000 | AC13: 2100000 | AE13: 2100000 | AF13: 2100000 | AH13: 1050000 | AK13: =(L13+AL13)-N13-O13-P13-Q13-R13-S13-T13-U13-V13-W13-X13-Y13-Z13-AA13-AB13-AC13-AD13-AE13-AF13-AG13-AH13-AI13-AJ13 -> 0 | AL13: 0 | AP13: SS | AQ13: f
A14: 13 | B14: MILAGROS VALENTINA PAYAN RIVERA | C14: 1109545940 | D14: 1001501-013-2026 | E14: ATENCIÓN | F14: JAIME SANCHEZ | G14: WILLAR GONZALEZ | H14: 45688 | I14: 45688 | J14: 45853 | K14: 165 | L14: 10800000 | M14: 7 | O14: 900000 | P14: 1800000 | R14: 1800000 | S14: 1800000 | T14: 1800000 | W14: - | X14: - | AA14: - | AC14: - | AE14: 1800000 | AF14: 1800000 | AH14: - | AJ14: 1800000 | AK14: =(L14+AL14)-N14-O14-P14-Q14-R14-S14-T14-U14-V14-W14-X14-Y14-Z14-AA14-AB14-AC14-AD14-AE14-AF14-AG14-AH14-AI14-AJ14 -> #VALUE! | AL14: 2700000 | AM14: 1 | AQ14: f
A15: 14 | B15: OMAR RESTREPO ZUÑIGA | C15: 16454607 | D15: 1001501-014-2026 | E15: LOGISTICA | F15: CATALINA MONCADA | G15: OLGA PATRICIA CANO | H15: 45688 | I15: 45688 | J15: 46006 | K15: 315 | L15: 19800000 | M15: 12 | O15: 900000 | P15: 1800000 | R15: 1800000 | S15: 1800000 | T15: 1800000 | W15: 1800000 | X15: 1800000 | AA15: 1800000 | AC15: 1800000 | AE15: 1800000 | AF15: 1800000 | AH15: 900000 | AK15: =(L15+AL15)-N15-O15-P15-Q15-R15-S15-T15-U15-V15-W15-X15-Y15-Z15-AA15-AB15-AC15-AD15-AE15-AF15-AG15-AH15-AI15-AJ15 -> 0 | AL15: 0 | AP15: SS + Inf | AQ15: m
A16: 15 | B16: JHON EDISON CORDOBA ORDOÑEZ | C16: 1118301461 | D16: 1001501-015-2026 | E16: LOGISTICA | F16: VIVIANA ANDREA TENORIO | G16: FERNANDA PUNGO | H16: 45688 | I16: 45688 | J16: 46006 | K16: 315 | L16: 19800000 | M16: 12 | O16: 900000 | P16: 1800000 | R16: 1800000 | S16: 1800000 | T16: 1800000 | W16: 1800000 | X16: 1800000 | AA16: 1800000 | AC16: 1800000 | AE16: 1800000 | AF16: 1800000 | AH16: - | AI16: 900000 | AK16: =(L16+AL16)-N16-O16-P16-Q16-R16-S16-T16-U16-V16-W16-X16-Y16-Z16-AA16-AB16-AC16-AD16-AE16-AF16-AG16-AH16-AI16-AJ16 -> #VALUE! | AL16: 0 | AP16: SS + Inf | AQ16: m
A17: 16 | B17: JOSÉ ATANEL QUICENO TORRES | C17: 94193787 | D17: 1001501-016-2026 | E17: LOGISTICA | F17: CATALINA MONCADA | G17: OLGA PATRICIA CANO | H17: 45688 | I17: 45688 | J17: 46006 | K17: 315 | L17: 19800000 | M17: 12 | O17: 900000 | P17: 1800000 | R17: 1800000 | S17: 1800000 | T17: 1800000 | W17: 1800000 | X17: 1800000 | AA17: 1800000 | AC17: 1800000 | AE17: 1800000 | AF17: 1800000 | AH17: 900000 | AK17: =(L17+AL17)-N17-O17-P17-Q17-R17-S17-T17-U17-V17-W17-X17-Y17-Z17-AA17-AB17-AC17-AD17-AE17-AF17-AG17-AH17-AI17-AJ17 -> 0 | AL17: 0 | AP17: SS + Inf | AQ17: m
A18: 17 | B18: MARTHA ISABEL NARVAEZ | C18: 31479215 | D18: 1001501-017-2026 | E18: LOGISTICA | F18: VIVIANA ANDREA TENORIO | G18: FERNANDA PUNGO | H18: 45688 | I18: 45688 | J18: 46021 | K18: 315 | L18: 19800000 | M18: 12 | O18: 900000 | P18: 1800000 | R18: 1800000 | S18: 1800000 | T18: 1800000 | W18: 1800000 | X18: 1800000 | AA18: 1800000 | AC18: 1800000 | AE18: 1800000 | AF18: 1800000 | AH18: - | AJ18: 1800000 | AK18: =(L18+AL18)-N18-O18-P18-Q18-R18-S18-T18-U18-V18-W18-X18-Y18-Z18-AA18-AB18-AC18-AD18-AE18-AF18-AG18-AH18-AI18-AJ18 -> #VALUE! | AL18: 900000 | AP18: SS + Inf | AQ18: f
A19: 17 | B19: NARLLY GOMEZ BRAVO | C19: 29120768 | D19: 1001501-017-2026 | E19: LOGISTICA | F19: VIVIANA ANDREA TENORIO | G19: FERNANDA PUNGO | H19: 45688 | I19: 45688 | J19: 46006 | K19: 315 | L19: 19800000 | M19: 12 | O19: 900000 | P19: 1800000 | R19: 1800000 | S19: 1800000 | T19: 1800000 | W19: 1800000 | X19: 1800000 | AA19: 1800000 | AC19: - | AE19: - | AH19: - | AK19: - | AL19: CEDIDO | AM19: 1 | AP19: SS + Inf | AQ19: f
A20: 18 | B20: LUZ AIDE MUÑOZ ORTEGA | C20: 27149631 | D20: 1001501-018-2026 | E20: LOGISTICA | F20: VIVIANA ANDREA TENORIO | G20: FERNANDA PUNGO | H20: 45688 | I20: 45688 | J20: 46006 | K20: 315 | L20: 19800000 | M20: 12 | O20: 900000 | P20: 1800000 | R20: 1800000 | S20: 1800000 | T20: 1800000 | W20: 1800000 | X20: 1800000 | AA20: 1800000 | AC20: 1800000 | AE20: 1800000 | AF20: 1800000 | AH20: 900000 | AK20: =(L20+AL20)-N20-O20-P20-Q20-R20-S20-T20-U20-V20-W20-X20-Y20-Z20-AA20-AB20-AC20-AD20-AE20-AF20-AG20-AH20-AI20-AJ20 -> 0 | AL20: 0 | AQ20: f
A21: 19 | B21: LENIN GILBERTO RUIZ AYALA | C21: 6549670 | D21: 1001501-019-2026 | E21: CONTROL INTERNO | F21: JAIME SANCHEZ | G21: Hegny Bon | H21: 45688 | I21: 45688 | J21: 46006 | K21: 315 | L21: 43197000 | M21: 12 | O21: 1963500 | P21: 3927000 | R21: 3927000 | S21: 3927000 | T21: 3927000 | W21: 3927000 | X21: 3927000 | AA21: 3927000 | AC21: 3927000 | AE21: 3927000 | AF21: 3927000 | AH21: - | AJ21: 3927000 | AK21: =(L21+AL21)-N21-O21-P21-Q21-R21-S21-T21-U21-V21-W21-X21-Y21-Z21-AA21-AB21-AC21-AD21-AE21-AF21-AG21-AH21-AI21-AJ21 -> #VALUE! | AL21: 1963500 | AM21: 1 | AQ21: m
A22: 20 | B22: SEGURIDAD JANO LTDA | C22: 822002315-6 | D22: 1001501-020-2026 | E22: TERCERO | F22: TERCERO | G22: TERCERO | H22: 45689 | I22: 45689 | J22: 45710 | K22: 22 | L22: 39850679 | M22: 0 | N22: 0 | O22: 0 | P22: 0 | Q22: 0 | R22: 0 | S22: - | T22: - | W22: - | X22: - | AA22: - | AC22: - | AE22: - | AH22: - | AK22: =(L22+AL22)-N22-O22-P22-Q22-R22-S22-T22-U22-V22-W22-X22-Y22-Z22-AA22-AB22-AC22-AD22-AE22-AF22-AG22-AH22-AI22-AJ22 -> #VALUE! | AL22: 0 | AQ22: 0
A23: 21 | B23: PABLO STEVEN PABÓN POLANCO | C23: 1110285162 | D23: 1001501-021-2026 | E23: ATENCIÓN | F23: JAIME SANCHEZ | G23: WILLAR GONZALEZ | H23: 45689 | I23: 45689 | J23: 46021 | K23: 329 | L23: 23100000 | M23: 12 | N23: - | P23: 2100000 | R23: 2100000 | S23: 2100000 | T23: 2100000 | W23: 2100000 | X23: 2100000 | AA23: 2100000 | AC23: 2100000 | AE23: 2100000 | AF23: 2100000 | AH23: - | AJ23: 2100000 | AK23: =(L23+AL23)-N23-O23-P23-Q23-R23-S23-T23-U23-V23-W23-X23-Y23-Z23-AA23-AB23-AC23-AD23-AE23-AF23-AG23-AH23-AI23-AJ23 -> #VALUE! | AL23: 0 | AM23: 1 | AP23: SS | AQ23: m
A24: 22 | B24: MILTON ARIAS VARGAS | C24: 16460613 | D24: 1001501-022-2026 | E24: ATENCIÓN | F24: JAIME SANCHEZ | G24: WILLAR GONZALEZ | H24: 45689 | I24: 45689 | J24: 46021 | K24: 329 | L24: 23100000 | M24: 11 | N24: - | P24: 2100000 | R24: 2100000 | S24: 2100000 | T24: 2100000 | W24: 2100000 | X24: 2100000 | AA24: 2100000 | AC24: 2100000 | AE24: 2100000 | AF24: 2100000 | AH24: - | AJ24: 2100000 | AK24: =(L24+AL24)-N24-O24-P24-Q24-R24-S24-T24-U24-V24-W24-X24-Y24-Z24-AA24-AB24-AC24-AD24-AE24-AF24-AG24-AH24-AI24-AJ24 -> #VALUE! | AL24: 0 | AM24: 1 | AP24: SS | AQ24: m
A25: 23 | B25: KELLY JOHANNA RIVERA DÍAZ | C25: 1118303170 | D25: 1001501-023-2026 | E25: BIENESTAR - ACADEMICO | F25: RUBEN DARIO MILLAN | G25: SIN APOYO | H25: 45689 | I25: 45689 | J25: 46006 | K25: 315 | L25: 43197000 | M25: 12 | O25: 1963500 | P25: 3927000 | R25: 3927000 | S25: 3927000 | T25: 3927000 | W25: 3927000 | X25: 3927000 | AA25: 3927000 | AC25: 3927000 | AE25: 3927000 | AF25: 3927000 | AH25: 1963500 | AK25: =(L25+AL25)-N25-O25-P25-Q25-R25-S25-T25-U25-V25-W25-X25-Y25-Z25-AA25-AB25-AC25-AD25-AE25-AF25-AG25-AH25-AI25-AJ25 -> 0 | AL25: 0 | AQ25: f
A26: 24 | B26: WILLAR GONZALES TORO | C26: 1118305806 | D26: 1001501-024-2026 | E26: COMUNICACIONES | F26: JAIME SANCHEZ | G26: SIN APOYO | H26: 45689 | I26: 45689 | J26: 46006 | K26: 315 | L26: 43197000 | M26: 12 | O26: 1963500 | P26: 3927000 | R26: 3927000 | S26: 3927000 | T26: 3927000 | W26: 3927000 | X26: 3927000 | AA26: 3927000 | AC26: 3927000 | AE26: 3927000 | AF26: 3927000 | AH26: 1963500 | AK26: =(L26+AL26)-N26-O26-P26-Q26-R26-S26-T26-U26-V26-W26-X26-Y26-Z26-AA26-AB26-AC26-AD26-AE26-AF26-AG26-AH26-AI26-AJ26 -> 0 | AL26: 0 | AP26: Inf+cta C | AQ26: m
A27: 25 | B27: DIEGO JAVIER ALZATE CUERO | C27: 16455217 | D27: 1001501-025-2026 | E27: PLANEACIÓN | F27: JAIME SANCHEZ | G27: CARLOS EDWIN PIEDRAHITA | H27: 45689 | I27: 45689 | J27: 46006 | K27: 315 | L27: 43197000 | M27: 12 | O27: 1963500 | P27: 3927000 | R27: 3927000 | S27: 3927000 | U27: 3927000 | W27: 3927000 | X27: 3927000 | AA27: 3927000 | AC27: 3927000 | AE27: 3927000 | AF27: 3927000 | AH27: 1963500 | AK27: =(L27+AL27)-N27-O27-P27-Q27-R27-S27-T27-U27-V27-W27-X27-Y27-Z27-AA27-AB27-AC27-AD27-AE27-AF27-AG27-AH27-AI27-AJ27 -> 0 | AL27: 0 | AQ27: m
A28: 26 | B28: JULIANA MOSQUERA VARGAS | C28: 1118295433 | D28: 1001501-026-2026 | E28: PRACTICAS - ACADEMICO | F28: RUBEN DARIO MILLAN | G28: SIN APOYO | H28: 45689 | I28: 45689 | J28: 46006 | K28: 315 | L28: 43197000 | M28: 12 | O28: 1963500 | P28: 3927000 | R28: 3927000 | S28: 3927000 | T28: 3927000 | W28: 3927000 | X28: 3927000 | AA28: 3927000 | AC28: 3927000 | AE28: 3927000 | AF28: 3927000 | AH28: 1963500 | AK28: =(L28+AL28)-N28-O28-P28-Q28-R28-S28-T28-U28-V28-W28-X28-Y28-Z28-AA28-AB28-AC28-AD28-AE28-AF28-AG28-AH28-AI28-AJ28 -> 0 | AL28: 0 | AQ28: f
A29: 27 | B29: LEYDI TATIANA ORTIZ RENGIFO | C29: 1118309496 | D29: 1001501-027-2026 | E29: AGENCIA | F29: JAIME SANCHEZ | G29: DIANA CAROLINA MARQUEZ | H29: 45689 | I29: 45689 | J29: 46006 | K29: 315 | L29: 43197000 | M29: 12 | O29: 1963500 | P29: 3927000 | R29: 3927000 | S29: 3927000 | T29: 3927000 | W29: 3927000 | X29: 3927000 | AA29: 3927000 | AC29: 3927000 | AE29: 3927000 | AF29: 3927000 | AH29: 1963500 | AK29: =(L29+AL29)-N29-O29-P29-Q29-R29-S29-T29-U29-V29-W29-X29-Y29-Z29-AA29-AB29-AC29-AD29-AE29-AF29-AG29-AH29-AI29-AJ29 -> 0 | AL29: 0 | AQ29: f
A30: 28 | B30: ANA SOFÍA TELLO HERRERA | C30: 31485180 | D30: 1001501-028-2026 | E30: AGENCIA | F30: JAIME SANCHEZ | G30: DIANA CAROLINA MARQUEZ | H30: 45689 | I30: 45689 | J30: 46006 | K30: 315 | L30: 43197000 | M30: 12 | O30: 1963500 | P30: 3927000 | R30: 3927000 | S30: 3927000 | T30: 3927000 | W30: 3927000 | X30: 3927000 | AA30: 3927000 | AC30: 3927000 | AE30: 3927000 | AF30: 3927000 | AH30: 1963500 | AK30: =(L30+AL30)-N30-O30-P30-Q30-R30-S30-T30-U30-V30-W30-X30-Y30-Z30-AA30-AB30-AC30-AD30-AE30-AF30-AG30-AH30-AI30-AJ30 -> 0 | AL30: 0 | AQ30: f
